BEGIN:VCALENDAR
VERSION:2.0
PRODID:spatie/icalendar-generator
DESCRIPTION:Events from Trailhead Spirits
X-WR-CALDESC:Events from Trailhead Spirits
REFRESH-INTERVAL;VALUE=DURATION:PT1440M
X-PUBLISHED-TTL:PT1440M
BEGIN:VTIMEZONE
TZID:America/Denver
BEGIN:DAYLIGHT
DTSTART:20180311T020000Z
TZOFFSETFROM:-0700
TZOFFSETTO:-0600
END:DAYLIGHT
BEGIN:STANDARD
DTSTART:20181104T020000Z
TZOFFSETFROM:-0600
TZOFFSETTO:-0700
END:STANDARD
BEGIN:DAYLIGHT
DTSTART:20190310T020000Z
TZOFFSETFROM:-0700
TZOFFSETTO:-0600
END:DAYLIGHT
END:VTIMEZONE
BEGIN:VTIMEZONE
TZID:UTC
BEGIN:STANDARD
DTSTART:20250725T092134Z
TZOFFSETFROM:+0000
TZOFFSETTO:+0000
END:STANDARD
END:VTIMEZONE
BEGIN:VEVENT
UID:420-30
DTSTAMP:20260421T092134Z
SUMMARY:Bloody Mary Bar
LOCATION:
ORGANIZER;CN=Trailhead Spirits Distillery:MAILTO:kate@govintagefive.com
DTSTART;TZID=America/Denver:20181201T130000
DTEND;TZID=America/Denver:20181201T200000
X-ALT-DESC;FMTTYPE=TEXT/HTML:Join us every saturday starting at 1pm for a b
 uild your own Bloody Mary Bar. Featuring Montana Made Parkers Hangover Ton
 ic. We rim the glass with your favorite salt\, pour Great North Vodka and 
 the rest is up to you.
CATEGORIES:General
URL;VALUE=URI:
METHOD:PUBLISH
END:VEVENT
END:VCALENDAR